Index of /checkResults/release/workflows-LATEST/recountWorkflow/raw-results/merida1
Name
Last modified
Size
Description
Parent Directory
-
install-summary.dcf
10-Jul-2024 05:30
285
install-out.txt
10-Jul-2024 05:30
1.0K
buildsrc-summary.dcf
10-Jul-2024 05:30
453
buildsrc-out.txt
10-Jul-2024 05:30
848