Index of /checkResults/release/workflows-LATEST/maEndToEnd/raw-results/palomino7
Name
Last modified
Size
Description
Parent Directory
-
install-out.txt
10-Jul-2024 05:30
1.1K
buildsrc-out.txt
10-Jul-2024 05:30
1.0K
buildsrc-summary.dcf
10-Jul-2024 05:30
379
install-summary.dcf
10-Jul-2024 05:30
274