Index of /checkResults/release/workflows-LATEST/liftOver/raw-results/nebbiolo1
Name
Last modified
Size
Description
Parent Directory
-
buildsrc-out.txt
10-Jul-2024 05:30
844
buildsrc-summary.dcf
10-Jul-2024 05:30
420
install-out.txt
10-Jul-2024 05:30
1.0K
install-summary.dcf
10-Jul-2024 05:30
261