Index of /checkResults/release/workflows-LATEST/fluentGenomics/raw-results/lconway
Name
Last modified
Size
Description
Parent Directory
-
install-summary.dcf
12-Jun-2024 05:30
283
buildsrc-summary.dcf
12-Jun-2024 05:30
449
buildsrc-out.txt
12-Jun-2024 05:30
844
install-out.txt
12-Jun-2024 05:30
1.0K