Index of /checkResults/release/workflows-LATEST/cytofWorkflow/raw-results/palomino7
Name
Last modified
Size
Description
Parent Directory
-
install-summary.dcf
10-Jul-2024 05:30
280
install-out.txt
10-Jul-2024 05:30
1.2K
buildsrc-summary.dcf
10-Jul-2024 05:30
477
buildsrc-out.txt
10-Jul-2024 05:30
906