Index of /checkResults/release/workflows-LATEST/cytofWorkflow/raw-results/palomino3
Name
Last modified
Size
Description
Parent Directory
-
buildsrc-out.txt
29-Jun-2024 05:30
906
buildsrc-summary.dcf
29-Jun-2024 05:30
477
install-out.txt
29-Jun-2024 05:30
1.2K
install-summary.dcf
29-Jun-2024 05:30
280