Index of /checkResults/release/workflows-LATEST/cytofWorkflow/raw-results/nebbiolo1
Name
Last modified
Size
Description
Parent Directory
-
install-summary.dcf
10-Jul-2024 05:30
271
install-out.txt
10-Jul-2024 05:30
1.2K
buildsrc-summary.dcf
10-Jul-2024 05:30
436
buildsrc-out.txt
10-Jul-2024 05:30
870