Index of /checkResults/release/workflows-LATEST/chipseqDB/raw-results/nebbiolo1
Name
Last modified
Size
Description
Parent Directory
-
install-summary.dcf
10-Jul-2024 05:30
262
install-out.txt
10-Jul-2024 05:30
948
buildsrc-summary.dcf
10-Jul-2024 05:30
422
buildsrc-out.txt
10-Jul-2024 05:30
888