Index of /checkResults/release/workflows-LATEST/chipseqDB/raw-results/lconway
Name
Last modified
Size
Description
Parent Directory
-
install-out.txt
12-Jun-2024 05:30
1.0K
buildsrc-out.txt
12-Jun-2024 05:30
898
buildsrc-summary.dcf
12-Jun-2024 05:30
432
install-summary.dcf
12-Jun-2024 05:30
272