Index of /checkResults/release/workflows-LATEST/arrays/raw-results/palomino3
Name
Last modified
Size
Description
Parent Directory
-
install-summary.dcf
29-Jun-2024 05:30
265
install-out.txt
29-Jun-2024 05:30
941
buildsrc-summary.dcf
29-Jun-2024 05:30
447
buildsrc-out.txt
29-Jun-2024 05:30
834