Index of /checkResults/release/workflows-LATEST/arrays/raw-results/merida1
Name
Last modified
Size
Description
Parent Directory
-
install-out.txt
10-Jul-2024 05:30
971
buildsrc-out.txt
10-Jul-2024 05:30
812
buildsrc-summary.dcf
10-Jul-2024 05:30
423
install-summary.dcf
10-Jul-2024 05:30
266