Index of /checkResults/release/workflows-LATEST/arrays/raw-results/lconway
Name
Last modified
Size
Description
Parent Directory
-
install-summary.dcf
12-Jun-2024 05:30
266
install-out.txt
12-Jun-2024 05:30
971
buildsrc-summary.dcf
12-Jun-2024 05:30
423
buildsrc-out.txt
12-Jun-2024 05:30
812