Index of /checkResults/release/workflows-LATEST/SingscoreAMLMutations/raw-results/palomino7
Name
Last modified
Size
Description
Parent Directory
-
install-out.txt
10-Jul-2024 05:30
1.6K
buildsrc-summary.dcf
10-Jul-2024 05:30
509
buildsrc-out.txt
10-Jul-2024 05:30
1.5K
install-summary.dcf
10-Jul-2024 05:30
296