Index of /checkResults/release/workflows-LATEST/SingscoreAMLMutations/raw-results/lconway
Name
Last modified
Size
Description
Parent Directory
-
install-out.txt
12-Jun-2024 05:30
1.6K
buildsrc-out.txt
12-Jun-2024 05:30
1.4K
buildsrc-summary.dcf
12-Jun-2024 05:30
470
install-summary.dcf
12-Jun-2024 05:30
297