Index of /checkResults/release/workflows-LATEST/RnaSeqGeneEdgeRQL/raw-results/palomino7
Name
Last modified
Size
Description
Parent Directory
-
install-summary.dcf
10-Jul-2024 05:30
288
buildsrc-summary.dcf
10-Jul-2024 05:30
493
buildsrc-out.txt
10-Jul-2024 05:30
924
install-out.txt
10-Jul-2024 05:30
1.0K