Index of /checkResults/release/workflows-LATEST/RnaSeqGeneEdgeRQL/raw-results/lconway
Name
Last modified
Size
Description
Parent Directory
-
install-summary.dcf
12-Jun-2024 05:30
288
install-out.txt
12-Jun-2024 05:30
1.0K
buildsrc-summary.dcf
12-Jun-2024 05:30
457
buildsrc-out.txt
12-Jun-2024 05:30
890