Index of /checkResults/release/workflows-LATEST/GeoMxWorkflows/raw-results/nebbiolo1
Name
Last modified
Size
Description
Parent Directory
-
install-summary.dcf
10-Jul-2024 05:30
273
buildsrc-summary.dcf
10-Jul-2024 05:30
440
buildsrc-out.txt
10-Jul-2024 05:30
834
install-out.txt
10-Jul-2024 05:30
968