Index of /checkResults/release/workflows-LATEST/ExpressionNormalizationWorkflow/raw-results/lconway
Name
Last modified
Size
Description
Parent Directory
-
install-summary.dcf
12-Jun-2024 05:30
317
install-out.txt
12-Jun-2024 05:30
2.1K
buildsrc-summary.dcf
12-Jun-2024 05:30
500
buildsrc-out.txt
12-Jun-2024 05:30
952