Index of /checkResults/release/workflows-LATEST/ExpHunterSuite/raw-results/lconway
Name
Last modified
Size
Description
Parent Directory
-
buildsrc-out.txt
12-Jun-2024 05:30
844
buildsrc-summary.dcf
12-Jun-2024 05:30
449
install-out.txt
12-Jun-2024 05:30
1.0K
install-summary.dcf
12-Jun-2024 05:30
283