Index of /checkResults/release/workflows-LATEST/CAGEWorkflow/raw-results/nebbiolo1
Name
Last modified
Size
Description
Parent Directory
-
buildsrc-out.txt
10-Jul-2024 05:30
866
buildsrc-summary.dcf
10-Jul-2024 05:30
433
install-out.txt
10-Jul-2024 05:30
960
install-summary.dcf
10-Jul-2024 05:30
269