Index of /checkResults/release/workflows-LATEST/CAGEWorkflow/raw-results/lconway
Name
Last modified
Size
Description
Parent Directory
-
buildsrc-out.txt
12-Jun-2024 05:30
876
buildsrc-summary.dcf
12-Jun-2024 05:30
443
install-out.txt
12-Jun-2024 05:30
1.0K
install-summary.dcf
12-Jun-2024 05:30
279