Index of /checkResults/release/workflows-LATEST/CAGEWorkflow/raw-results
Name
Last modified
Size
Description
Parent Directory
-
nebbiolo1/
10-Jul-2024 05:30
-
merida1/
10-Jul-2024 05:30
-
lconway/
12-Jun-2024 05:30
-
info.dcf
10-Jul-2024 05:30
286