Index of /checkResults/release/workflows-LATEST/BP4RNAseq/raw-results/palomino7
Name
Last modified
Size
Description
Parent Directory
-
install-summary.dcf
10-Jul-2024 05:30
271
install-out.txt
10-Jul-2024 05:30
968
buildsrc-summary.dcf
10-Jul-2024 05:30
460
buildsrc-out.txt
10-Jul-2024 05:30
886