Index of /checkResults/release/workflows-LATEST/BP4RNAseq/raw-results/lconway
Name
Last modified
Size
Description
Parent Directory
-
install-summary.dcf
12-Jun-2024 05:30
272
install-out.txt
12-Jun-2024 05:30
1.0K
buildsrc-summary.dcf
12-Jun-2024 05:30
433
buildsrc-out.txt
12-Jun-2024 05:30
864