Index of /checkResults/release/data-experiment-LATEST/yeastRNASeq/raw-results
Name
Last modified
Size
Description
Parent Directory
-
info.dcf
17-Jul-2024 03:51
282
nebbiolo1/
17-Jul-2024 03:51
-