Index of /checkResults/release/data-experiment-LATEST/miRcompData/raw-results
Name
Last modified
Size
Description
Parent Directory
-
info.dcf
17-Jul-2024 03:51
281
nebbiolo1/
17-Jul-2024 03:51
-