Name | Last modified | Size | Description | |
---|---|---|---|---|
Parent Directory | - | |||
install-summary.dcf | 17-Jul-2024 03:51 | 258 | ||
install-out.txt | 17-Jul-2024 03:51 | 1.2K | ||
checksrc-summary.dcf | 17-Jul-2024 03:51 | 419 | ||
checksrc-out.txt | 17-Jul-2024 03:51 | 4.4K | ||
buildsrc-summary.dcf | 17-Jul-2024 03:51 | 417 | ||
buildsrc-out.txt | 17-Jul-2024 03:51 | 869 | ||