Index of /checkResults/release/data-experiment-LATEST/MicrobiomeBenchmarkData/raw-results
Name
Last modified
Size
Description
Parent Directory
-
info.dcf
17-Jul-2024 03:51
310
nebbiolo1/
17-Jul-2024 03:51
-