Name | Last modified | Size | Description | |
---|---|---|---|---|
Parent Directory | - | |||
install-summary.dcf | 17-Jul-2024 03:51 | 273 | ||
install-out.txt | 17-Jul-2024 03:51 | 899 | ||
checksrc-summary.dcf | 17-Jul-2024 03:51 | 448 | ||
checksrc-out.txt | 17-Jul-2024 03:51 | 3.3K | ||
buildsrc-summary.dcf | 17-Jul-2024 03:51 | 439 | ||
buildsrc-out.txt | 17-Jul-2024 03:51 | 825 | ||