Name | Last modified | Size | Description | |
---|---|---|---|---|
Parent Directory | - | |||
install-summary.dcf | 17-Jul-2024 21:30 | 278 | ||
install-out.txt | 17-Jul-2024 21:30 | 1.0K | ||
checksrc-summary.dcf | 17-Jul-2024 21:30 | 454 | ||
checksrc-out.txt | 17-Jul-2024 21:30 | 3.5K | ||
buildsrc-summary.dcf | 17-Jul-2024 21:30 | 446 | ||
buildsrc-out.txt | 17-Jul-2024 21:30 | 846 | ||