Index of /checkResults/release/data-annotation-LATEST/ENCODExplorerData/raw-results
Name
Last modified
Size
Description
Parent Directory
-
info.dcf
17-Jul-2024 21:30
311
nebbiolo1/
17-Jul-2024 21:30
-