Index of /checkResults/release/data-annotation-LATEST/BioMartGOGeneSets/raw-results
Name
Last modified
Size
Description
Parent Directory
-
info.dcf
17-Jul-2024 21:30
282
nebbiolo1/
17-Jul-2024 21:30
-