Index of /checkResults/release/data-annotation-LATEST/AHPathbankDbs/raw-results
Name
Last modified
Size
Description
Parent Directory
-
nebbiolo1/
17-Jul-2024 21:30
-
info.dcf
17-Jul-2024 21:30
285