Index of /checkResults/release/books-LATEST/SingleRBook/raw-results
Name
Last modified
Size
Description
Parent Directory
-
info.dcf
16-Jul-2024 03:00
297
nebbiolo1/
16-Jul-2024 03:00
-