Name | Last modified | Size | Description | |
---|---|---|---|---|
Parent Directory | - | |||
buildsrc-out.txt | 16-Jul-2024 03:00 | 828 | ||
buildsrc-summary.dcf | 16-Jul-2024 03:00 | 408 | ||
checksrc-out.txt | 16-Jul-2024 03:00 | 551 | ||
checksrc-summary.dcf | 16-Jul-2024 03:00 | 343 | ||
install-out.txt | 16-Jul-2024 03:00 | 928 | ||
install-summary.dcf | 16-Jul-2024 03:00 | 252 | ||