Name | Last modified | Size | Description | |
---|---|---|---|---|
Parent Directory | - | |||
install-summary.dcf | 16-Jul-2024 03:00 | 277 | ||
install-out.txt | 16-Jul-2024 03:00 | 1.0K | ||
checksrc-summary.dcf | 16-Jul-2024 03:00 | 415 | ||
checksrc-out.txt | 16-Jul-2024 03:00 | 635 | ||
buildsrc-summary.dcf | 16-Jul-2024 03:00 | 446 | ||
buildsrc-out.txt | 16-Jul-2024 03:00 | 2.2K | ||