Index of /checkResults/release/books-LATEST/OSCA.advanced/raw-results
Name
Last modified
Size
Description
Parent Directory
-
nebbiolo1/
16-Jul-2024 03:00
-
info.dcf
16-Jul-2024 03:00
303