Name | Last modified | Size | Description | |
---|---|---|---|---|
Parent Directory | - | |||
checksrc-out.txt | 09-Dec-2023 04:00 | 605 | ||
checksrc-summary.dcf | 09-Dec-2023 04:00 | 389 | ||
buildsrc-out.txt | 16-Jul-2024 03:00 | 8.0K | ||
buildsrc-summary.dcf | 16-Jul-2024 03:00 | 342 | ||
install-out.txt | 16-Jul-2024 03:00 | 960 | ||
install-summary.dcf | 16-Jul-2024 03:00 | 267 | ||