Index of /checkResults/release/bioc-testing-LATEST/tximeta/raw-results/nebbiolo1
Name
Last modified
Size
Description
Parent Directory
-
bioccheck-summary.dcf
18-Jul-2024 00:15
314
buildsrc-summary.dcf
18-Jul-2024 00:15
417
buildsrc-out.txt
18-Jul-2024 00:15
806
bioccheck-out.txt
18-Jul-2024 00:15
4.4K