Index of /checkResults/release/bioc-testing-LATEST/scuttle/raw-results/nebbiolo1
Name
Last modified
Size
Description
Parent Directory
-
buildsrc-summary.dcf
18-Jul-2024 00:15
417
buildsrc-out.txt
18-Jul-2024 00:15
836
bioccheck-summary.dcf
18-Jul-2024 00:15
317
bioccheck-out.txt
18-Jul-2024 00:15
4.1K