Index of /checkResults/release/bioc-testing-LATEST/rtracklayer/raw-results/nebbiolo1
Name
Last modified
Size
Description
Parent Directory
-
bioccheck-out.txt
18-Jul-2024 00:15
5.4K
bioccheck-summary.dcf
18-Jul-2024 00:15
322
buildsrc-out.txt
18-Jul-2024 00:15
1.1K
buildsrc-summary.dcf
18-Jul-2024 00:15
428