Index of /checkResults/release/bioc-testing-LATEST/mzID/raw-results/nebbiolo1
Name
Last modified
Size
Description
Parent Directory
-
bioccheck-out.txt
18-Jul-2024 00:15
4.4K
bioccheck-summary.dcf
18-Jul-2024 00:15
308
buildsrc-out.txt
18-Jul-2024 00:15
794
buildsrc-summary.dcf
18-Jul-2024 00:15
407