Index of /checkResults/release/bioc-testing-LATEST/interactiveDisplayBase/raw-results/nebbiolo1
Name
Last modified
Size
Description
Parent Directory
-
bioccheck-out.txt
18-Jul-2024 00:15
4.3K
buildsrc-out.txt
18-Jul-2024 00:15
866
buildsrc-summary.dcf
18-Jul-2024 00:15
461
bioccheck-summary.dcf
18-Jul-2024 00:15
347