Index of /checkResults/release/bioc-testing-LATEST/glmGamPoi/raw-results/nebbiolo1
Name
Last modified
Size
Description
Parent Directory
-
bioccheck-out.txt
18-Jul-2024 00:15
4.1K
bioccheck-summary.dcf
18-Jul-2024 00:15
321
buildsrc-out.txt
18-Jul-2024 00:15
844
buildsrc-summary.dcf
18-Jul-2024 00:15
424