Index of /checkResults/release/bioc-testing-LATEST/genefilter/raw-results/nebbiolo1
Name
Last modified
Size
Description
Parent Directory
-
buildsrc-out.txt
18-Jul-2024 00:15
848
buildsrc-summary.dcf
18-Jul-2024 00:15
426
bioccheck-out.txt
18-Jul-2024 00:15
4.6K
bioccheck-summary.dcf
18-Jul-2024 00:15
323