Index of /checkResults/release/bioc-testing-LATEST/flowCore/raw-results/nebbiolo1
Name
Last modified
Size
Description
Parent Directory
-
buildsrc-summary.dcf
18-Jul-2024 00:15
420
buildsrc-out.txt
18-Jul-2024 00:15
1.2K
bioccheck-summary.dcf
18-Jul-2024 00:15
316
bioccheck-out.txt
18-Jul-2024 00:15
5.3K