Index of /checkResults/release/bioc-testing-LATEST/edgeR/raw-results/nebbiolo1
Name
Last modified
Size
Description
Parent Directory
-
bioccheck-out.txt
18-Jul-2024 00:15
5.5K
bioccheck-summary.dcf
18-Jul-2024 00:15
309
buildsrc-out.txt
18-Jul-2024 00:15
827
buildsrc-summary.dcf
18-Jul-2024 00:15
410