Index of /checkResults/release/bioc-testing-LATEST/clusterProfiler/raw-results/nebbiolo1
Name
Last modified
Size
Description
Parent Directory
-
bioccheck-summary.dcf
18-Jul-2024 00:15
330
buildsrc-summary.dcf
18-Jul-2024 00:15
441
buildsrc-out.txt
18-Jul-2024 00:15
901
bioccheck-out.txt
18-Jul-2024 00:15
5.0K