Index of /checkResults/release/bioc-testing-LATEST/annotate/raw-results/nebbiolo1
Name
Last modified
Size
Description
Parent Directory
-
bioccheck-out.txt
18-Jul-2024 00:15
5.1K
bioccheck-summary.dcf
18-Jul-2024 00:15
319
buildsrc-out.txt
18-Jul-2024 00:15
873
buildsrc-summary.dcf
18-Jul-2024 00:15
420