Index of /checkResults/release/bioc-testing-LATEST/ResidualMatrix/raw-results/nebbiolo1
Name
Last modified
Size
Description
Parent Directory
-
buildsrc-summary.dcf
18-Jul-2024 00:15
438
buildsrc-out.txt
18-Jul-2024 00:15
834
bioccheck-summary.dcf
18-Jul-2024 00:15
331
bioccheck-out.txt
18-Jul-2024 00:15
3.8K